BEGIN:VCALENDAR
VERSION:2.0
PRODID:-//https://www.ischiaeventi.com///NONSGML kigkonsult.se iCalcreator 2.10.15//
METHOD:PUBLISH
BEGIN:VEVENT
UID:20260424T144143UTC-1918dGASou@https://www.ischiaeventi.com/
DTSTAMP:20260424T144143Z
DESCRIPTION:Forio commemorates April 25 with a morning that brings together
  memory and the present\, in the spirit of rights and civic participation.
  This year’s event carries a special meaning as it combines two key annive
 rsaries: the 81st anniversary of Liberation and the 80th anniversary of wo
 men’s right to vote\, the central theme of the 2026 ANPI membership card.
 \nThe initiative will take place on Saturday\, April 25\, from 10:00 AM to
  1:00 PM\, in Piazza Medaglia d’Oro\, with an introduction by Nenzi Carcat
 erra\, the launch of the 2026 ANPI membership campaign\, and readings by G
 iuseppe Castiglione.\nThis will not be a formal commemoration\, but a mome
 nt of shared reflection. The day will also be dedicated to the memory of R
 enato Regine\, municipal councillor\, doctor\, and a deeply rooted figure 
 in the local community\, who passed away suddenly in 2026. A highly respec
 ted professional and a point of reference in the healthcare sector\, Renat
 o Regine represented for decades an active presence in public and civic li
 fe on the island\, with constant commitment to the community and to rights
 .\nHis human and political path will be the thread running through the mor
 ning—not as a celebration\, but as a reflection on a life of daily engagem
 ent and consistent civic struggle\, often carried out away from the spotli
 ght.\nIn this way\, April 25 returns to its most authentic meaning: not on
 ly a date to remember\, but a public space in which to reflect on what fre
 edom\, participation\, and collective responsibility mean today. https://w
 ww.ischiaeventi.com/en/events/intrattenimento/music/event/249916-april-25-
 in-forio-memory-rights-and-community
DTSTART:20260425T080000Z
DTEND:20260425T110000Z
LOCATION:Piazza Medaglia d'oro (San Gaetano) (Piazza Luca Balsofiore\, 8\, 
 80075 Forio NA\, Italy)
SUMMARY:April 25 in Forio: memory\, rights and community
URL:https://www.ischiaeventi.com/en/events/intrattenimento/music/event/2499
 16-april-25-in-forio-memory-rights-and-community
END:VEVENT
END:VCALENDAR
