BEGIN:VCALENDAR
VERSION:2.0
PRODID:-//https://www.ischiaeventi.com///NONSGML kigkonsult.se iCalcreator 2.10.15//
METHOD:PUBLISH
BEGIN:VEVENT
UID:20260424T191227UTC-1187fLuOwi@https://www.ischiaeventi.com/
DTSTAMP:20260424T191227Z
DESCRIPTION:Lecture by Serenaorsola PilatoArt Historian\nOpening remarks an
 d greetings:Nunzia Mattera SenaPresident\, Garden Club Ischia\nCristina Ma
 tteraCastello Aragonese Ischia\nIntroductory speech:Lucia AnnicelliDirecto
 r\, Antoniana Library of Ischia\nAntoniana Library of IschiaMarch 13\, 202
 6 – 5:30 PM https://www.ischiaeventi.com/en/events/intrattenimento/music/e
 vent/249644-the-patronage-of-the-davalos-family-in-ischia
DTSTART:20260313T163000Z
DTEND:20260313T173000Z
LOCATION:Biblioteca Antoniana (Rampe S.Antonio\, 5\, 80077 - Ischia)
SUMMARY:The Patronage of the d’Avalos Family in Ischia
URL:https://www.ischiaeventi.com/en/events/intrattenimento/music/event/2496
 44-the-patronage-of-the-davalos-family-in-ischia
END:VEVENT
END:VCALENDAR
