BEGIN:VCALENDAR
VERSION:2.0
PRODID:-//https://www.ischiaeventi.com///NONSGML kigkonsult.se iCalcreator 2.10.15//
METHOD:PUBLISH
BEGIN:VEVENT
UID:20260424T223236UTC-7137IWU6Fx@https://www.ischiaeventi.com/
DTSTAMP:20260424T223236Z
DESCRIPTION:Presentation of the Museum of the Sea Websitecurated by Giovann
 i Di Meglio\n https://www.ischiaeventi.com/en/events/intrattenimento/music
 /event/249182-christmas-at-the-antoniana-presentation-of-the-museum-of-the
 -sea-website
DTSTART:20251211T160000Z
DTEND:20251211T180000Z
LOCATION:Biblioteca Antoniana (Rampe S.Antonio\, 5\, 80077 - Ischia)
SUMMARY:Christmas at the Antoniana: Presentation of the Museum of the Sea W
 ebsite
URL:https://www.ischiaeventi.com/en/events/intrattenimento/music/event/2491
 82-christmas-at-the-antoniana-presentation-of-the-museum-of-the-sea-websit
 e
END:VEVENT
END:VCALENDAR
