BEGIN:VCALENDAR
VERSION:2.0
PRODID:-//https://www.ischiaeventi.com///NONSGML kigkonsult.se iCalcreator 2.10.15//
METHOD:PUBLISH
BEGIN:VEVENT
UID:20260424T223137UTC-8162UeuRk1@https://www.ischiaeventi.com/
DTSTAMP:20260424T223137Z
DESCRIPTION:Presentazione del libro di Gea Palumbo Ricominciamo dai nomi\,&
 nbsp\;dai miti e dalle fonti nei secoli https://www.ischiaeventi.com/en/ev
 ents/intrattenimento/music/event/249178-presentation-of-gea-palumbos-book-
 ricominciamo-dai-nomi-dai-miti-e-dalle-fonti-nei-secoli
DTSTART:20251203T160000Z
DTEND:20251203T180000Z
LOCATION:Biblioteca Antoniana (Rampe S.Antonio\, 5\, 80077 - Ischia)
SUMMARY:Presentation of Gea Palumbo’s book Ricominciamo dai nomi\, dai miti
  e dalle fonti nei secoli
URL:https://www.ischiaeventi.com/en/events/intrattenimento/music/event/2491
 78-presentation-of-gea-palumbos-book-ricominciamo-dai-nomi-dai-miti-e-dall
 e-fonti-nei-secoli
END:VEVENT
END:VCALENDAR
