BEGIN:VCALENDAR
VERSION:2.0
PRODID:-//https://www.ischiaeventi.com///NONSGML kigkonsult.se iCalcreator 2.10.15//
METHOD:PUBLISH
BEGIN:VEVENT
UID:20260424T125916UTC-3463VfS80V@https://www.ischiaeventi.com/
DTSTAMP:20260424T125916Z
DESCRIPTION:&nbsp\;Brunch in piazza https://www.ischiaeventi.com/en/events/
 intrattenimento/event/35836-natale-a-ischia-brunch-in-piazza
DTSTART:20241231T110000Z
DTEND:20241231T140000Z
LOCATION:Via Roma (Via Roma\, 80077 Ischia NA\, Italia)
SUMMARY:Natale a Ischia: Brunch in piazza
URL:https://www.ischiaeventi.com/en/events/intrattenimento/event/35836-nata
 le-a-ischia-brunch-in-piazza
END:VEVENT
END:VCALENDAR
