BEGIN:VCALENDAR
VERSION:2.0
PRODID:-//https://www.ischiaeventi.com///NONSGML kigkonsult.se iCalcreator 2.10.15//
METHOD:PUBLISH
BEGIN:VEVENT
UID:20260424T144659UTC-5239FJpSLs@https://www.ischiaeventi.com/
DTSTAMP:20260424T144659Z
DESCRIPTION:20.00 PANZA CHRISTMAS HOLIDAY una serata dove vivere l’atmosfer
 a natalizia tra musica\, food e divertimento per le strade di Panza https:
 //www.ischiaeventi.com/en/events/intrattenimento/event/34111-forio-merryla
 nd-panza-christmas-holiday
DTSTART:20241223T190000Z
DTEND:20241223T220000Z
LOCATION:Comune di Forio (Piazza Municipio\, 1\, 80075 Forio NA\, Italia)
SUMMARY:Forio MerryLand: PANZA CHRISTMAS HOLIDAY
URL:https://www.ischiaeventi.com/en/events/intrattenimento/event/34111-fori
 o-merryland-panza-christmas-holiday
END:VEVENT
END:VCALENDAR
