BEGIN:VCALENDAR
VERSION:2.0
PRODID:-//https://www.ischiaeventi.com///NONSGML kigkonsult.se iCalcreator 2.10.15//
METHOD:PUBLISH
BEGIN:VEVENT
UID:20260424T144148UTC-4515C92LvU@https://www.ischiaeventi.com/
DTSTAMP:20260424T144148Z
DESCRIPTION:Esposizione Iacono Mattera Waschimps https://www.ischiaeventi.c
 om/en/events/intrattenimento/event/28793-esposizione-iacono-mattera-waschi
 mps
DTSTART:20240426T160000Z
DTEND:20240426T180000Z
LOCATION:Villa Arbusto museum (Corso Angelo Rizzoli\, 194\, 80076 Lacco Ame
 no NA\, Italia)
SUMMARY:Esposizione Iacono Mattera Waschimps
URL:https://www.ischiaeventi.com/en/events/intrattenimento/event/28793-espo
 sizione-iacono-mattera-waschimps
END:VEVENT
END:VCALENDAR
