BEGIN:VCALENDAR
VERSION:2.0
PRODID:-//https://www.ischiaeventi.com///NONSGML kigkonsult.se iCalcreator 2.10.15//
METHOD:PUBLISH
BEGIN:VEVENT
UID:20260424T211142UTC-4954lb5s65@https://www.ischiaeventi.com/
DTSTAMP:20260424T211142Z
DESCRIPTION:Tea with Agatha Christie50 years after her passing\, we celebra
 te Agatha Christie with readings\, literary discussions\, and a tea inspir
 ed by 1930s England.\nMarch 12 – 5:30 PMBiblioteca Antoniana https://www.i
 schiaeventi.com/en/events/intrattenimento/event/249671-tea-with-agatha-chr
 istie
DTSTART:20260312T163000Z
DTEND:20260312T180000Z
LOCATION:Biblioteca Antoniana (Rampe S.Antonio\, 5\, 80077 - Ischia)
SUMMARY:Tea with Agatha Christie
URL:https://www.ischiaeventi.com/en/events/intrattenimento/event/249671-tea
 -with-agatha-christie
END:VEVENT
END:VCALENDAR
