BEGIN:VCALENDAR
VERSION:2.0
PRODID:-//https://www.ischiaeventi.com///NONSGML kigkonsult.se iCalcreator 2.10.15//
METHOD:PUBLISH
BEGIN:VEVENT
UID:20260424T212106UTC-2515IRbGcZ@https://www.ischiaeventi.com/
DTSTAMP:20260424T212106Z
DESCRIPTION:Book Presentationby Salvatore Di Costanzo – The Island of Magic
 \n https://www.ischiaeventi.com/en/events/intrattenimento/event/249187-chr
 istmas-at-the-antoniana-book-presentation-by-salvatore-di-costanzo
DTSTART:20260102T170000Z
DTEND:20260102T180000Z
LOCATION:Biblioteca Antoniana (Rampe S.Antonio\, 5\, 80077 - Ischia)
SUMMARY:Christmas at the Antoniana: Book Presentation by Salvatore Di Costa
 nzo
URL:https://www.ischiaeventi.com/en/events/intrattenimento/event/249187-chr
 istmas-at-the-antoniana-book-presentation-by-salvatore-di-costanzo
END:VEVENT
END:VCALENDAR
