BEGIN:VCALENDAR
VERSION:2.0
PRODID:-//https://www.ischiaeventi.com///NONSGML kigkonsult.se iCalcreator 2.10.15//
METHOD:PUBLISH
BEGIN:VEVENT
UID:20260424T111312UTC-8487sitDoZ@https://www.ischiaeventi.com/
DTSTAMP:20260424T111312Z
DESCRIPTION:I NOSTRI PESCATORI PRESENTANOLA 'FESTA DEL MARE' - X EDIZIONE 2
 0.30 STAND GASTRONOMICI DJ SANGIO IN CONCERTO https://www.ischiaeventi.com
 /en/events/cultura/debates-and-cultural-meetings/event/97687-san-pietro-in
 -festa
DTSTART:20250702T183000Z
DTEND:20250702T212400Z
LOCATION:Spiaggia San Pietro\, Ischia (Via Francesco Buonocore\, 80077 Isch
 ia NA\, Italia)
SUMMARY:San Pietro in festa
URL:https://www.ischiaeventi.com/en/events/cultura/debates-and-cultural-mee
 tings/event/97687-san-pietro-in-festa
END:VEVENT
END:VCALENDAR
