BEGIN:VCALENDAR
VERSION:2.0
PRODID:-//https://www.ischiaeventi.com///NONSGML kigkonsult.se iCalcreator 2.10.15//
METHOD:PUBLISH
BEGIN:VEVENT
UID:20260424T111259UTC-7185keVk3E@https://www.ischiaeventi.com/
DTSTAMP:20260424T111259Z
DESCRIPTION:Presso la banchina culturale del porto di Forio serata di music
 a diretta dal M. Francesco Patalano. https://www.ischiaeventi.com/en/event
 s/cultura/debates-and-cultural-meetings/event/81004-festeggiamenti-in-onor
 e-di-san-vito-night-day-orchestra
DTSTART:20250614T203000Z
DTEND:20250614T215900Z
LOCATION:Porto di Forio (Porto di Forio\, 80075 Forio NA\, Italia)
SUMMARY:Festeggiamenti in onore di San Vito: Night & Day orchestra
URL:https://www.ischiaeventi.com/en/events/cultura/debates-and-cultural-mee
 tings/event/81004-festeggiamenti-in-onore-di-san-vito-night-day-orchestra
END:VEVENT
END:VCALENDAR
