BEGIN:VCALENDAR
VERSION:2.0
PRODID:-//https://www.ischiaeventi.com///NONSGML kigkonsult.se iCalcreator 2.10.15//
METHOD:PUBLISH
BEGIN:VEVENT
UID:20260424T111042UTC-3276Eed95l@https://www.ischiaeventi.com/
DTSTAMP:20260424T111042Z
DESCRIPTION:Programma della serata:Ore 20:30 – Cerimonia di intitolazione d
 ella strada ora Provinciale Panza-Succhivo al Dott. Giovanni ImpagliazzoOr
 e 21:00 – Concerto della Banda Musicale Aurora – Città di Panza in Piazza 
 San LeonardoMercatini di artigianato locale https://www.ischiaeventi.com/e
 n/events/cultura/debates-and-cultural-meetings/event/80717-concerto-1-giug
 no
DTSTART:20250601T183000Z
DTEND:20250601T203300Z
LOCATION:Panza (Piazza San Leonardo - 80075 Panza Forio)
SUMMARY:Concerto 1 giugno
URL:https://www.ischiaeventi.com/en/events/cultura/debates-and-cultural-mee
 tings/event/80717-concerto-1-giugno
END:VEVENT
END:VCALENDAR
