BEGIN:VCALENDAR
VERSION:2.0
PRODID:-//https://www.ischiaeventi.com///NONSGML kigkonsult.se iCalcreator 2.10.15//
METHOD:PUBLISH
BEGIN:VEVENT
UID:20260424T093123UTC-19338fNUub@https://www.ischiaeventi.com/
DTSTAMP:20260424T093123Z
DESCRIPTION:Concerto: Stabat Mater di Salvatore Ronga con Lucianna De Falco
  https://www.ischiaeventi.com/en/events/cultura/debates-and-cultural-meeti
 ngs/event/68449-concerto-stabat-mater
DTSTART:20250415T183000Z
DTEND:20250415T200000Z
LOCATION:Basilica di Santa Restituta (Piazza San Restituta\, 1\, 80076 Lacc
 o Ameno NA\, Italia)
SUMMARY:Concerto: Stabat Mater
URL:https://www.ischiaeventi.com/en/events/cultura/debates-and-cultural-mee
 tings/event/68449-concerto-stabat-mater
END:VEVENT
END:VCALENDAR
