BEGIN:VCALENDAR
VERSION:2.0
PRODID:-//https://www.ischiaeventi.com///NONSGML kigkonsult.se iCalcreator 2.10.15//
METHOD:PUBLISH
BEGIN:VEVENT
UID:20260424T104453UTC-5293xskGh1@https://www.ischiaeventi.com/
DTSTAMP:20260424T104453Z
DESCRIPTION:Piazza SS. Immacolata - ore 19.00\nUn evento tutto da ridere co
 n una speciale edizione in maschera de “La Corrida”\, dove il pubblico sar
 à protagonista tra esibizioni esilaranti e tanto divertimento! https://www
 .ischiaeventi.com/en/events/cultura/debates-and-cultural-meetings/event/44
 694-la-corrida-mascherata
DTSTART:20250302T180000Z
DTEND:20250302T200000Z
LOCATION:Forio d’Ischia (80075 Forio NA\, Italia)
SUMMARY:La corrida mascherata 
URL:https://www.ischiaeventi.com/en/events/cultura/debates-and-cultural-mee
 tings/event/44694-la-corrida-mascherata
END:VEVENT
END:VCALENDAR
