BEGIN:VCALENDAR
VERSION:2.0
PRODID:-//https://www.ischiaeventi.com///NONSGML kigkonsult.se iCalcreator 2.10.15//
METHOD:PUBLISH
BEGIN:VEVENT
UID:20260424T104451UTC-4810t6vOMr@https://www.ischiaeventi.com/
DTSTAMP:20260424T104451Z
DESCRIPTION:Pomeriggio dedicato a bambini e adulti\, sfilata in maschera\, 
 gonfiabili\, giochi a tema.\n&nbsp\; https://www.ischiaeventi.com/en/event
 s/cultura/debates-and-cultural-meetings/event/42979-carnival-in-fest
DTSTART:20250222T140000Z
DTEND:20250222T170000Z
LOCATION:Piazza degli Eroi (Piazza Degli Eroi\, 80077 Ischia NA\, Italia)
SUMMARY:Carnival in fest
URL:https://www.ischiaeventi.com/en/events/cultura/debates-and-cultural-mee
 tings/event/42979-carnival-in-fest
END:VEVENT
END:VCALENDAR
