BEGIN:VCALENDAR
VERSION:2.0
PRODID:-//https://www.ischiaeventi.com///NONSGML kigkonsult.se iCalcreator 2.10.15//
METHOD:PUBLISH
BEGIN:VEVENT
UID:20260424T111605UTC-0056g3pvZV@https://www.ischiaeventi.com/
DTSTAMP:20260424T111605Z
DESCRIPTION:Percorso archeologico\, architettonico e di cultura immateriale
  da Villa Arbusto e lungo il centro storico a cura della dott.ssa Mariange
 la Catuogno https://www.ischiaeventi.com/en/events/cultura/debates-and-cul
 tural-meetings/event/38249-lacco-ameno-in-canti-di-natale-natale-a-pithecu
 sae-2024-2025-lacconart---ti-porto-io
DTSTART:20241231T093000Z
DTEND:20241231T110000Z
LOCATION:Villa Arbusto museum (Corso Angelo Rizzoli\, 194\, 80076 Lacco Ame
 no NA\, Italia)
SUMMARY:Lacco Ameno In-canti di Natale: Natale a Pithecusae 2024- 2025 “Lac
 cOnArt — ti porto io
URL:https://www.ischiaeventi.com/en/events/cultura/debates-and-cultural-mee
 tings/event/38249-lacco-ameno-in-canti-di-natale-natale-a-pithecusae-2024-
 2025-lacconart---ti-porto-io
END:VEVENT
END:VCALENDAR
