BEGIN:VCALENDAR
VERSION:2.0
PRODID:-//https://www.ischiaeventi.com///NONSGML kigkonsult.se iCalcreator 2.10.15//
METHOD:PUBLISH
BEGIN:VEVENT
UID:20260424T111451UTC-1095fgfw5n@https://www.ischiaeventi.com/
DTSTAMP:20260424T111451Z
DESCRIPTION:Oltre Ischia di Luca Ciriello.‘Anteprima isolana del film docum
 entario scritto e realizzato dagli studenti Liceo Statale ‘G.Buchner' e II
 S ‘C. Mennella' https://www.ischiaeventi.com/en/events/cultura/debates-and
 -cultural-meetings/event/38240-lacco-ameno-in-canti-di-natale-oltre-ischia
DTSTART:20241221T170000Z
DTEND:20241221T183000Z
LOCATION:Auditorium Leonardo Carriero (Via Onofrio Messer 47\, 80076\, Lacc
 o Ameno\, Napoli)
SUMMARY:Lacco Ameno In-canti di Natale: Oltre Ischia
URL:https://www.ischiaeventi.com/en/events/cultura/debates-and-cultural-mee
 tings/event/38240-lacco-ameno-in-canti-di-natale-oltre-ischia
END:VEVENT
END:VCALENDAR
