BEGIN:VCALENDAR
VERSION:2.0
PRODID:-//https://www.ischiaeventi.com///NONSGML kigkonsult.se iCalcreator 2.10.15//
METHOD:PUBLISH
BEGIN:VEVENT
UID:20260424T135516UTC-7662ssuB15@https://www.ischiaeventi.com/
DTSTAMP:20260424T135516Z
DESCRIPTION:Musica dalle 23.30 all'1 con Tony Romano. Angolo foto ricordo. 
 Stand con caldarroste e spumante per il brindisi augurale. Agli alberi del
 la speranza appendi il biglietto dei tuoi desideri per il nuovo anno https
 ://www.ischiaeventi.com/en/events/cultura/debates-and-cultural-meetings/ev
 ent/36891-mare-copp-mas-aspettando-la-mezzanotte-capodanno-in-piazza
DTSTART:20241231T223000Z
DTEND:20241231T225900Z
LOCATION:Piazza Serrara (80070 Serrara Fontana NA\, Italia)
SUMMARY:Mare Copp Mas: Aspettando la Mezzanotte Capodanno in Piazza
URL:https://www.ischiaeventi.com/en/events/cultura/debates-and-cultural-mee
 tings/event/36891-mare-copp-mas-aspettando-la-mezzanotte-capodanno-in-piaz
 za
END:VEVENT
END:VCALENDAR
