BEGIN:VCALENDAR
VERSION:2.0
PRODID:-//https://www.ischiaeventi.com///NONSGML kigkonsult.se iCalcreator 2.10.15//
METHOD:PUBLISH
BEGIN:VEVENT
UID:20260424T110220UTC-2890ZuIl9i@https://www.ischiaeventi.com/
DTSTAMP:20260424T110220Z
DESCRIPTION:Villaggio di Babbo Natale &amp\; gonfiabili a cura di Azzurra S
 pettacoli https://www.ischiaeventi.com/en/events/cultura/debates-and-cultu
 ral-meetings/event/36886-mare-copp-mas-villaggio-di-babbo-natale-gonfiabil
 i
DTSTART:20241223T140000Z
DTEND:20241223T170000Z
LOCATION:Piazza Serrara (80070 Serrara Fontana NA\, Italia)
SUMMARY:Mare Copp Mas: Villaggio di Babbo Natale & gonfiabili
URL:https://www.ischiaeventi.com/en/events/cultura/debates-and-cultural-mee
 tings/event/36886-mare-copp-mas-villaggio-di-babbo-natale-gonfiabili
END:VEVENT
END:VCALENDAR
