BEGIN:VCALENDAR
VERSION:2.0
PRODID:-//https://www.ischiaeventi.com///NONSGML kigkonsult.se iCalcreator 2.10.15//
METHOD:PUBLISH
BEGIN:VEVENT
UID:20260424T135705UTC-33538l8Vtc@https://www.ischiaeventi.com/
DTSTAMP:20260424T135705Z
DESCRIPTION:BACCALANDO A SAN SILVESTRO tra musica e delizie per il Corso di
  Panza https://www.ischiaeventi.com/en/events/cultura/debates-and-cultural
 -meetings/event/34290-forio-merryland-baccalando-a-san-silvestro
DTSTART:20241231T110000Z
DTEND:20241231T130000Z
LOCATION:Comune di Forio (Piazza Municipio\, 1\, 80075 Forio NA\, Italia)
SUMMARY:Forio MerryLand: BACCALANDO A SAN SILVESTRO 
URL:https://www.ischiaeventi.com/en/events/cultura/debates-and-cultural-mee
 tings/event/34290-forio-merryland-baccalando-a-san-silvestro
END:VEVENT
END:VCALENDAR
