BEGIN:VCALENDAR
VERSION:2.0
PRODID:-//https://www.ischiaeventi.com///NONSGML kigkonsult.se iCalcreator 2.10.15//
METHOD:PUBLISH
BEGIN:VEVENT
UID:20260424T141742UTC-9225zoRjvf@https://www.ischiaeventi.com/
DTSTAMP:20260424T141742Z
DESCRIPTION:20.00 GRAN CONCERTO DI NATALE canti natalizi tradizionali nella
  Chiesa di S. Maria di Loreto in Forio\n&nbsp\; https://www.ischiaeventi.c
 om/en/events/cultura/debates-and-cultural-meetings/event/34117-forio-merry
 land-gran-concerto-di-natale
DTSTART:20241225T190000Z
DTEND:20241225T220000Z
LOCATION:Comune di Forio (Piazza Municipio\, 1\, 80075 Forio NA\, Italia)
SUMMARY:Forio MerryLand: GRAN CONCERTO DI NATALE
URL:https://www.ischiaeventi.com/en/events/cultura/debates-and-cultural-mee
 tings/event/34117-forio-merryland-gran-concerto-di-natale
END:VEVENT
END:VCALENDAR
