BEGIN:VCALENDAR
VERSION:2.0
PRODID:-//https://www.ischiaeventi.com///NONSGML kigkonsult.se iCalcreator 2.10.15//
METHOD:PUBLISH
BEGIN:VEVENT
UID:20260424T135152UTC-1835H59xJr@https://www.ischiaeventi.com/
DTSTAMP:20260424T135152Z
DESCRIPTION:06:30 CORTEO RELIGIOSO della Banda Musicale di Forio in piazza 
 San Gaetano e a seguire spettacoli pirotecnici &nbsp\; &nbsp\; &nbsp\; htt
 ps://www.ischiaeventi.com/en/events/cultura/debates-and-cultural-meetings/
 event/34113-forio-merryland-corteo-religioso
DTSTART:20241224T053000Z
DTEND:20241224T070000Z
LOCATION:Comune di Forio (Piazza Municipio\, 1\, 80075 Forio NA\, Italia)
SUMMARY:Forio MerryLand: CORTEO RELIGIOSO
URL:https://www.ischiaeventi.com/en/events/cultura/debates-and-cultural-mee
 tings/event/34113-forio-merryland-corteo-religioso
END:VEVENT
END:VCALENDAR
