BEGIN:VCALENDAR
VERSION:2.0
PRODID:-//https://www.ischiaeventi.com///NONSGML kigkonsult.se iCalcreator 2.10.15//
METHOD:PUBLISH
BEGIN:VEVENT
UID:20260424T153045UTC-01298gm5lE@https://www.ischiaeventi.com/
DTSTAMP:20260424T153045Z
DESCRIPTION:21:00 LA CORRIDA una serata all’insegna del divertimento con le
  esibizioni dei cosiddetti “dilettanti allo sbaraglio nel Chiostro di San 
 Francesco in Piazza Municipio Forio https://www.ischiaeventi.com/en/events
 /cultura/debates-and-cultural-meetings/event/34109-forio-merryland-la-corr
 ida
DTSTART:20241222T200000Z
DTEND:20241222T220000Z
LOCATION:Comune di Forio (Piazza Municipio\, 1\, 80075 Forio NA\, Italia)
SUMMARY:Forio MerryLand: LA CORRIDA
URL:https://www.ischiaeventi.com/en/events/cultura/debates-and-cultural-mee
 tings/event/34109-forio-merryland-la-corrida
END:VEVENT
END:VCALENDAR
