BEGIN:VCALENDAR
VERSION:2.0
PRODID:-//https://www.ischiaeventi.com///NONSGML kigkonsult.se iCalcreator 2.10.15//
METHOD:PUBLISH
BEGIN:VEVENT
UID:20260424T111238UTC-26287DxIDP@https://www.ischiaeventi.com/
DTSTAMP:20260424T111238Z
DESCRIPTION:19.30 SPETTACOLO CON CORO degli allievi nel Chiostro di San Fra
 ncesco in Piazza Municipio Forio https://www.ischiaeventi.com/en/events/cu
 ltura/debates-and-cultural-meetings/event/34100-forio-merryland-spettacolo
 -con-coro
DTSTART:20241219T183000Z
DTEND:20241219T200000Z
LOCATION:Comune di Forio (Piazza Municipio\, 1\, 80075 Forio NA\, Italia)
SUMMARY:Forio MerryLand: SPETTACOLO CON CORO
URL:https://www.ischiaeventi.com/en/events/cultura/debates-and-cultural-mee
 tings/event/34100-forio-merryland-spettacolo-con-coro
END:VEVENT
END:VCALENDAR
