BEGIN:VCALENDAR
VERSION:2.0
PRODID:-//https://www.ischiaeventi.com///NONSGML kigkonsult.se iCalcreator 2.10.15//
METHOD:PUBLISH
BEGIN:VEVENT
UID:20260424T111239UTC-9808RwIeAV@https://www.ischiaeventi.com/
DTSTAMP:20260424T111239Z
DESCRIPTION:18:00 e 19:00 CHRISTMAS ANGELS recital di Natale in concerto e 
 spettacolo di canto moderno con nel Chiostro di San Francesco in Piazza Mu
 nicipio Forio&nbsp\; https://www.ischiaeventi.com/en/events/cultura/debate
 s-and-cultural-meetings/event/34095-forio-merryland-christmas-angels
DTSTART:20241216T170000Z
DTEND:20241216T193000Z
LOCATION:Comune di Forio (Piazza Municipio\, 1\, 80075 Forio NA\, Italia)
SUMMARY:Forio MerryLand: CHRISTMAS ANGELS
URL:https://www.ischiaeventi.com/en/events/cultura/debates-and-cultural-mee
 tings/event/34095-forio-merryland-christmas-angels
END:VEVENT
END:VCALENDAR
