BEGIN:VCALENDAR
VERSION:2.0
PRODID:-//https://www.ischiaeventi.com///NONSGML kigkonsult.se iCalcreator 2.10.15//
METHOD:PUBLISH
BEGIN:VEVENT
UID:20260424T140339UTC-9051IectUp@https://www.ischiaeventi.com/
DTSTAMP:20260424T140339Z
DESCRIPTION:15.30 MAGICA PARATA DELLE FAVOLE emozioni e divertimento assicu
 rati per i più piccoli con i famosi personaggi delle favole che faranno ri
 tornare bambini anche gli adulti sfilando lungo le strade del paese per fa
 rci sognare in Forio https://www.ischiaeventi.com/en/events/cultura/debate
 s-and-cultural-meetings/event/34093-forio-merryland-magica-parata-delle-fa
 vole
DTSTART:20241215T143000Z
DTEND:20241215T163000Z
LOCATION:Comune di Forio (Piazza Municipio\, 1\, 80075 Forio NA\, Italia)
SUMMARY:Forio MerryLand: MAGICA PARATA DELLE FAVOLE
URL:https://www.ischiaeventi.com/en/events/cultura/debates-and-cultural-mee
 tings/event/34093-forio-merryland-magica-parata-delle-favole
END:VEVENT
END:VCALENDAR
