BEGIN:VCALENDAR
VERSION:2.0
PRODID:-//https://www.ischiaeventi.com///NONSGML kigkonsult.se iCalcreator 2.10.15//
METHOD:PUBLISH
BEGIN:VEVENT
UID:20260424T111235UTC-4972Kgvb67@https://www.ischiaeventi.com/
DTSTAMP:20260424T111235Z
DESCRIPTION:17.00 DAL TABELLONE AL TANNENBAUM un evento che unisce divertim
 ento e creatività con laboratorio per i più piccoli “Scriviamo la lettera 
 a Babbo Natale e torneo di giochi da tavolo a tema natalizio Forio https:/
 /www.ischiaeventi.com/en/events/cultura/debates-and-cultural-meetings/even
 t/34080-forio-merryland-dal-tabellone-al-tannenbaum
DTSTART:20241208T160000Z
DTEND:20241208T180000Z
LOCATION:Comune di Forio (Piazza Municipio\, 1\, 80075 Forio NA\, Italia)
SUMMARY:Forio MerryLand: DAL TABELLONE AL TANNENBAUM
URL:https://www.ischiaeventi.com/en/events/cultura/debates-and-cultural-mee
 tings/event/34080-forio-merryland-dal-tabellone-al-tannenbaum
END:VEVENT
END:VCALENDAR
