BEGIN:VCALENDAR
VERSION:2.0
PRODID:-//https://www.ischiaeventi.com///NONSGML kigkonsult.se iCalcreator 2.10.15//
METHOD:PUBLISH
BEGIN:VEVENT
UID:20260424T103910UTC-2473ZVuuIZ@https://www.ischiaeventi.com/
DTSTAMP:20260424T103910Z
DESCRIPTION:Duo M. Paolucci- J. Gaudenzi - Violino e violoncellomusiche di 
 Bach\, Ravel\, Kodaly\nPrenotazione obbligatoriaIl costo del concerto è di
  € 20\,00 (tariffa unica)Il concerto si svolge nella sala al chiuso e dura
  circa 60 minutiI biglietti devono essere prenotati presso la biglietteria
  dei Giardini La Mortelladalle 10 alle 18 nei giorni di Martedì\, Giovedì\
 , Sabato e Domenica\, o al telefono 081-986220\n https://www.ischiaeventi.
 com/en/events/cultura/debates-and-cultural-meetings/event/33483-incontri-m
 usicali-stagione-autunnale-duo-m-paolucci-j-gaudenzi
DTSTART:20241019T150000Z
DTEND:20241019T163000Z
LOCATION:Giardini La Mortella (Via Francesco Calise\, 39 - 80075 Forio NA\,
  Italia)
SUMMARY:Incontri musicali\, stagione autunnale: Duo M. Paolucci - J. Gauden
 zi
URL:https://www.ischiaeventi.com/en/events/cultura/debates-and-cultural-mee
 tings/event/33483-incontri-musicali-stagione-autunnale-duo-m-paolucci-j-ga
 udenzi
END:VEVENT
END:VCALENDAR
