BEGIN:VCALENDAR
VERSION:2.0
PRODID:-//https://www.ischiaeventi.com///NONSGML kigkonsult.se iCalcreator 2.10.15//
METHOD:PUBLISH
BEGIN:VEVENT
UID:20260424T111604UTC-4890WRxNVz@https://www.ischiaeventi.com/
DTSTAMP:20260424T111604Z
DESCRIPTION:Celebrazione della festività della MADONNA ASSUNTA Con messa\, 
 processione e fuochi pirotecnici lungo il corso principale. A cura della C
 ongrega di Santa Maria Assunta https://www.ischiaeventi.com/en/events/cult
 ura/debates-and-cultural-meetings/event/31656-e-state-insieme-a-lacco-amen
 o-celebrazione-della-festivita-della-madonna-assunta
DTSTART:20240815T180000Z
DTEND:20240815T212300Z
LOCATION:Piazza Rosario (Via Rosario\, 80076 Lacco Ameno NA\, Italia)
SUMMARY:E-state insieme a Lacco Ameno: Celebrazione della festività della M
 ADONNA ASSUNTA
URL:https://www.ischiaeventi.com/en/events/cultura/debates-and-cultural-mee
 tings/event/31656-e-state-insieme-a-lacco-ameno-celebrazione-della-festivi
 ta-della-madonna-assunta
END:VEVENT
END:VCALENDAR
