BEGIN:VCALENDAR
VERSION:2.0
PRODID:-//https://www.ischiaeventi.com///NONSGML kigkonsult.se iCalcreator 2.10.15//
METHOD:PUBLISH
BEGIN:VEVENT
UID:20260424T093006UTC-2232lM0exC@https://www.ischiaeventi.com/
DTSTAMP:20260424T093006Z
DESCRIPTION:Tradizione e modernità della canzone italiana e napoletana http
 s://www.ischiaeventi.com/en/events/cultura/debates-and-cultural-meetings/e
 vent/31411-na-sera-e-maschio
DTSTART:20240720T200000Z
DTEND:20240720T215900Z
LOCATION:Piazza S. Restituta (Piazza Santa Restituta\, 80076 Lacco Ameno NA
 \, Italia)
SUMMARY:'Na sera 'e Maschio
URL:https://www.ischiaeventi.com/en/events/cultura/debates-and-cultural-mee
 tings/event/31411-na-sera-e-maschio
END:VEVENT
END:VCALENDAR
