BEGIN:VCALENDAR
VERSION:2.0
PRODID:-//https://www.ischiaeventi.com///NONSGML kigkonsult.se iCalcreator 2.10.15//
METHOD:PUBLISH
BEGIN:VEVENT
UID:20260424T093611UTC-9142Vf7MS4@https://www.ischiaeventi.com/
DTSTAMP:20260424T093611Z
DESCRIPTION:Summer Time Serrara: BELVEDERE AL CALAR DEL SOLE MUSICA CON DJ 
 PAKINHO https://www.ischiaeventi.com/en/events/cultura/debates-and-cultura
 l-meetings/event/31237-summer-time-serrara-belvedere-al-calar-del-sole-mus
 ica-con-dj-pakinho
DTSTART:20240726T170000Z
DTEND:20240726T215200Z
LOCATION:Piazza Serrara (80070 Serrara Fontana NA\, Italia)
SUMMARY:Summer Time Serrara: BELVEDERE AL CALAR DEL SOLE MUSICA CON DJ PAKI
 NHO
URL:https://www.ischiaeventi.com/en/events/cultura/debates-and-cultural-mee
 tings/event/31237-summer-time-serrara-belvedere-al-calar-del-sole-musica-c
 on-dj-pakinho
END:VEVENT
END:VCALENDAR
