BEGIN:VCALENDAR
VERSION:2.0
PRODID:-//https://www.ischiaeventi.com///NONSGML kigkonsult.se iCalcreator 2.10.15//
METHOD:PUBLISH
BEGIN:VEVENT
UID:20260424T121555UTC-10051rhOGG@https://www.ischiaeventi.com/
DTSTAMP:20260424T121555Z
DESCRIPTION:Summer Time Serrara: PIANO BAR CON CIRO MOZART https://www.isch
 iaeventi.com/en/events/cultura/debates-and-cultural-meetings/event/31228-s
 ummer-time-serrara-piano-bar-con-ciro-mozart
DTSTART:20240711T190000Z
DTEND:20240711T215200Z
LOCATION:Borgo di Sant'Angelo (Via Nazario Sauro\, Sant'angelo NA\, Italia)
SUMMARY:Summer Time Serrara: PIANO BAR CON CIRO MOZART
URL:https://www.ischiaeventi.com/en/events/cultura/debates-and-cultural-mee
 tings/event/31228-summer-time-serrara-piano-bar-con-ciro-mozart
END:VEVENT
END:VCALENDAR
