BEGIN:VCALENDAR
VERSION:2.0
PRODID:-//https://www.ischiaeventi.com///NONSGML kigkonsult.se iCalcreator 2.10.15//
METHOD:PUBLISH
BEGIN:VEVENT
UID:20260424T141739UTC-7023BwGVCd@https://www.ischiaeventi.com/
DTSTAMP:20260424T141739Z
DESCRIPTION:di Mery Sportiello\nDanza classica\nmodem jazz\nStreetJazz\ndan
 ze caraibiche\nmusical\nacrobatica\ncanto https://www.ischiaeventi.com/en/
 events/cultura/debates-and-cultural-meetings/event/30757-calici-di-cultura
 -la-magia-della-danza
DTSTART:20240614T160000Z
DTEND:20240614T200000Z
LOCATION:Piazzale Cristoforo Colombo (Via Cristoforo Colombo\, 80075 Forio 
 NA\, Italia)
SUMMARY:Calici di cultura: LA MAGIA DELLA DANZA
URL:https://www.ischiaeventi.com/en/events/cultura/debates-and-cultural-mee
 tings/event/30757-calici-di-cultura-la-magia-della-danza
END:VEVENT
END:VCALENDAR
