BEGIN:VCALENDAR
VERSION:2.0
PRODID:-//https://www.ischiaeventi.com///NONSGML kigkonsult.se iCalcreator 2.10.15//
METHOD:PUBLISH
BEGIN:VEVENT
UID:20260424T141739UTC-8979lvipcG@https://www.ischiaeventi.com/
DTSTAMP:20260424T141739Z
DESCRIPTION:spettacolo con LINO D'ANGIÒAMEDEO COLELLAALAN DE LUCA https://w
 ww.ischiaeventi.com/en/events/cultura/debates-and-cultural-meetings/event/
 30754-calici-di-cultura-parlanno-cu-crianza
DTSTART:20240614T193000Z
DTEND:20240614T203000Z
LOCATION:Piazzale Cristoforo Colombo (Via Cristoforo Colombo\, 80075 Forio 
 NA\, Italia)
SUMMARY:Calici di cultura: Parlanno cu’ crianza
URL:https://www.ischiaeventi.com/en/events/cultura/debates-and-cultural-mee
 tings/event/30754-calici-di-cultura-parlanno-cu-crianza
END:VEVENT
END:VCALENDAR
