BEGIN:VCALENDAR
VERSION:2.0
PRODID:-//https://www.ischiaeventi.com///NONSGML kigkonsult.se iCalcreator 2.10.15//
METHOD:PUBLISH
BEGIN:VEVENT
UID:20260425T001506UTC-6140uS3JPV@https://www.ischiaeventi.com/
DTSTAMP:20260425T001506Z
DESCRIPTION:Ischia e la modalità sostenibile https://www.ischiaeventi.com/e
 n/events/cultura/debates-and-cultural-meetings/event/29823-ischia-e-la-mod
 alita-sostenibile
DTSTART:20240524T130000Z
DTEND:20240524T170000Z
LOCATION:Villa Arbusto museum (Corso Angelo Rizzoli\, 194\, 80076 Lacco Ame
 no NA\, Italia)
SUMMARY:Ischia e la modalità sostenibile
URL:https://www.ischiaeventi.com/en/events/cultura/debates-and-cultural-mee
 tings/event/29823-ischia-e-la-modalita-sostenibile
END:VEVENT
END:VCALENDAR
