BEGIN:VCALENDAR
VERSION:2.0
PRODID:-//https://www.ischiaeventi.com///NONSGML kigkonsult.se iCalcreator 2.10.15//
METHOD:PUBLISH
BEGIN:VEVENT
UID:20260424T111237UTC-3574S8DPJL@https://www.ischiaeventi.com/
DTSTAMP:20260424T111237Z
DESCRIPTION:Una delle gare più attese nel panorama sportivo ischitano\, una
  gara di Triathlon che avrà vita sul nostro territorio https://www.ischiae
 venti.com/en/events/cultura/debates-and-cultural-meetings/event/29273-isch
 ia-sunset-triathlon-13-edizione
DTSTART;VALUE=DATE:20240905
LOCATION:Forio d’Ischia (80075 Forio NA\, Italia)
SUMMARY:Ischia Sunset Triathlon 13° edizione
URL:https://www.ischiaeventi.com/en/events/cultura/debates-and-cultural-mee
 tings/event/29273-ischia-sunset-triathlon-13-edizione
END:VEVENT
END:VCALENDAR
