BEGIN:VCALENDAR
VERSION:2.0
PRODID:-//https://www.ischiaeventi.com///NONSGML kigkonsult.se iCalcreator 2.10.15//
METHOD:PUBLISH
BEGIN:VEVENT
UID:20260424T111257UTC-3864FBWljJ@https://www.ischiaeventi.com/
DTSTAMP:20260424T111257Z
DESCRIPTION:Torneo di Judo che coinvolgerà più di 500 atleLti provenienti d
 a tutta Italia https://www.ischiaeventi.com/en/events/cultura/debates-and-
 cultural-meetings/event/29256-8-judo-summer-camp-memorial-adriana-serpico
DTSTART;VALUE=DATE:20240629
LOCATION:Forio d’Ischia (80075 Forio NA\, Italia)
SUMMARY:8° Judo summer camp memorial Adriana Serpico
URL:https://www.ischiaeventi.com/en/events/cultura/debates-and-cultural-mee
 tings/event/29256-8-judo-summer-camp-memorial-adriana-serpico
END:VEVENT
END:VCALENDAR
