BEGIN:VCALENDAR
VERSION:2.0
PRODID:-//https://www.ischiaeventi.com///NONSGML kigkonsult.se iCalcreator 2.10.15//
METHOD:PUBLISH
BEGIN:VEVENT
UID:20260424T111300UTC-1218eBlumU@https://www.ischiaeventi.com/
DTSTAMP:20260424T111300Z
DESCRIPTION:Torneo di Judo che coinvolgerà più di 500 atleLti provenienti d
 a tutta Italia https://www.ischiaeventi.com/en/events/cultura/debates-and-
 cultural-meetings/event/29253-8-judo-summer-camp-memorial-adriana-serpico
DTSTART;VALUE=DATE:20240626
LOCATION:Forio d’Ischia (80075 Forio NA\, Italia)
SUMMARY:8° Judo summer camp memorial Adriana Serpico
URL:https://www.ischiaeventi.com/en/events/cultura/debates-and-cultural-mee
 tings/event/29253-8-judo-summer-camp-memorial-adriana-serpico
END:VEVENT
END:VCALENDAR
