BEGIN:VCALENDAR
VERSION:2.0
PRODID:-//https://www.ischiaeventi.com///NONSGML kigkonsult.se iCalcreator 2.10.15//
METHOD:PUBLISH
BEGIN:VEVENT
UID:20260424T073438UTC-24053r4MOb@https://www.ischiaeventi.com/
DTSTAMP:20260424T073438Z
DESCRIPTION:Esposizione Iacono Mattera Waschimps https://www.ischiaeventi.c
 om/en/events/cultura/debates-and-cultural-meetings/event/28766-esposizione
 -iacono-mattera-waschimps
DTSTART:20240330T170000Z
DTEND:20240330T190000Z
LOCATION:Villa Arbusto museum (Corso Angelo Rizzoli\, 194\, 80076 Lacco Ame
 no NA\, Italia)
SUMMARY:Esposizione Iacono Mattera Waschimps
URL:https://www.ischiaeventi.com/en/events/cultura/debates-and-cultural-mee
 tings/event/28766-esposizione-iacono-mattera-waschimps
END:VEVENT
END:VCALENDAR
