BEGIN:VCALENDAR
VERSION:2.0
PRODID:-//https://www.ischiaeventi.com///NONSGML kigkonsult.se iCalcreator 2.10.15//
METHOD:PUBLISH
BEGIN:VEVENT
UID:20260424T121640UTC-5728xrmNUI@https://www.ischiaeventi.com/
DTSTAMP:20260424T121640Z
DESCRIPTION: Giovedì 3 Aprile - 𝗕𝗶𝗮𝗴𝗶𝗼 𝗜𝘇𝘇𝗼 il napoletano più amato dal pub
 blico. https://www.ischiaeventi.com/en/events/cultura/debates-and-cultural
 -meetings/event/27969-copia-da-il-grande-spettacolo-al-cinema-excelsior-di
 -ischia-biagio-izzo
DTSTART:20240403T180000Z
DTEND:20240403T203000Z
LOCATION:Cinema Excelsior (Via Francesco Sogliuzzo\, 18\, 80077 Ischia NA\,
  Italia)
SUMMARY:Copia da Il grande spettacolo al cinema excelsior di Ischia: Biagio
  Izzo
URL:https://www.ischiaeventi.com/en/events/cultura/debates-and-cultural-mee
 tings/event/27969-copia-da-il-grande-spettacolo-al-cinema-excelsior-di-isc
 hia-biagio-izzo
END:VEVENT
END:VCALENDAR
