BEGIN:VCALENDAR
VERSION:2.0
PRODID:-//https://www.ischiaeventi.com///NONSGML kigkonsult.se iCalcreator 2.10.15//
METHOD:PUBLISH
BEGIN:VEVENT
UID:20260424T104457UTC-8185cHA6OJ@https://www.ischiaeventi.com/
DTSTAMP:20260424T104457Z
DESCRIPTION:Presepe vivente a Ischia https://www.ischiaeventi.com/en/events
 /cultura/debates-and-cultural-meetings/event/27702-presepe-vivente
DTSTART:20231230T153000Z
DTEND:20231230T193000Z
LOCATION:Torre del Molino (Spiaggia dei Pescatori\, 80077 Ischia NA\, Itali
 a)
SUMMARY:Presepe Vivente 
URL:https://www.ischiaeventi.com/en/events/cultura/debates-and-cultural-mee
 tings/event/27702-presepe-vivente
END:VEVENT
END:VCALENDAR
