BEGIN:VCALENDAR
VERSION:2.0
PRODID:-//https://www.ischiaeventi.com///NONSGML kigkonsult.se iCalcreator 2.10.15//
METHOD:PUBLISH
BEGIN:VEVENT
UID:20260424T035856UTC-2475dwEGmp@https://www.ischiaeventi.com/
DTSTAMP:20260424T035856Z
DESCRIPTION:The Garden of Lights and the Crossing of BoundariesMassimo Viso
 ne\, Professor of Architectural History at the University Federico II of N
 aples https://www.ischiaeventi.com/en/events/cultura/debates-and-cultural-
 meetings/event/249830-project-kepos-the-garden-of-lights-and-the-crossing-
 of-boundaries
DTSTART:20260528T170000Z
DTEND:20260528T190000Z
LOCATION:Giardini La Mortella (Via Francesco Calise\, 39 - 80075 Forio NA\,
  Italia)
SUMMARY:Project Kepos: The Garden of Lights and the Crossing of Boundaries
URL:https://www.ischiaeventi.com/en/events/cultura/debates-and-cultural-mee
 tings/event/249830-project-kepos-the-garden-of-lights-and-the-crossing-of-
 boundaries
END:VEVENT
END:VCALENDAR
