BEGIN:VCALENDAR
VERSION:2.0
PRODID:-//https://www.ischiaeventi.com///NONSGML kigkonsult.se iCalcreator 2.10.15//
METHOD:PUBLISH
BEGIN:VEVENT
UID:20260424T211331UTC-4670sGXhcn@https://www.ischiaeventi.com/
DTSTAMP:20260424T211331Z
DESCRIPTION:MARION DÖNHOFF – THE COUNTESS OF PEACE BETWEEN ISCHIA AND GERMA
 NY\n'Peace is not born from oblivion\, but from memory and responsibility'
 \nUnder the honorary patronage of the Municipality of Forio\nOpening Remar
 ks:Stany Verde\, Mayor of Forio https://www.ischiaeventi.com/en/events/cul
 tura/debates-and-cultural-meetings/event/249826-marion-doenhoff---the-coun
 tess-of-peace-between-ischia-and-germany
DTSTART:20260410T160000Z
DTEND:20260410T180000Z
LOCATION:sala consiliare Mazzella  (80075 Forio NA\, Italia)
SUMMARY:MARION DÖNHOFF – THE COUNTESS OF PEACE BETWEEN ISCHIA AND GERMANY
URL:https://www.ischiaeventi.com/en/events/cultura/debates-and-cultural-mee
 tings/event/249826-marion-doenhoff---the-countess-of-peace-between-ischia-
 and-germany
END:VEVENT
END:VCALENDAR
