BEGIN:VCALENDAR
VERSION:2.0
PRODID:-//https://www.ischiaeventi.com///NONSGML kigkonsult.se iCalcreator 2.10.15//
METHOD:PUBLISH
BEGIN:VEVENT
UID:20260424T104916UTC-1799u4CtBv@https://www.ischiaeventi.com/
DTSTAMP:20260424T104916Z
DESCRIPTION:Anna Maria Agostino and Teresa Sasso lead us into the atmospher
 es of Chekhov\, where the story of the Passion becomes a light that warms 
 the heart.\nAT THE PIANO: MATTEO TRIOLO\nWEDNESDAY\, APRIL 1\, 2026 – 5:00
  PMVilla Arbusto\, Lacco Ameno\nIntroductory greetingsMariangela CalisePre
 sident of Fidapa BPW Italy – Ischia Section\nWith the moral patronage of t
 he Municipality of Lacco Ameno. https://www.ischiaeventi.com/en/events/cul
 tura/debates-and-cultural-meetings/event/249799-passages---two-voices-to-t
 ell-the-night-when-time-stood-still
DTSTART:20260401T150000Z
DTEND:20260401T170000Z
LOCATION:Villa Arbusto museum (Corso Angelo Rizzoli\, 194\, 80076 Lacco Ame
 no NA\, Italia)
SUMMARY:PASSAGES – Two Voices to Tell the Night When Time Stood Still
URL:https://www.ischiaeventi.com/en/events/cultura/debates-and-cultural-mee
 tings/event/249799-passages---two-voices-to-tell-the-night-when-time-stood
 -still
END:VEVENT
END:VCALENDAR
