BEGIN:VCALENDAR
VERSION:2.0
PRODID:-//https://www.ischiaeventi.com///NONSGML kigkonsult.se iCalcreator 2.10.15//
METHOD:PUBLISH
BEGIN:VEVENT
UID:20260424T071542UTC-70075wLSEN@https://www.ischiaeventi.com/
DTSTAMP:20260424T071542Z
DESCRIPTION:CATTURA LA LUNA - STORIA E COSTUME DI UNA FAMIGLIA ISCHITANA\n(
 Franco Di Mauro Publisher – 2026)\nMarch 19\, 2026 – 5:00 PMCasina Gingerò
 In Villa Arbusto\, Lacco Ameno https://www.ischiaeventi.com/en/events/cult
 ura/debates-and-cultural-meetings/event/249646-book-presentation-by-miggi-
 calise
DTSTART:20260319T160000Z
DTEND:20260319T180000Z
LOCATION:Villa Arbusto museum (Corso Angelo Rizzoli\, 194\, 80076 Lacco Ame
 no NA\, Italia)
SUMMARY:Book Presentation by Miggi Calise
URL:https://www.ischiaeventi.com/en/events/cultura/debates-and-cultural-mee
 tings/event/249646-book-presentation-by-miggi-calise
END:VEVENT
END:VCALENDAR
