BEGIN:VCALENDAR
VERSION:2.0
PRODID:-//https://www.ischiaeventi.com///NONSGML kigkonsult.se iCalcreator 2.10.15//
METHOD:PUBLISH
BEGIN:VEVENT
UID:20260424T111425UTC-0492ZhUhbt@https://www.ischiaeventi.com/
DTSTAMP:20260424T111425Z
DESCRIPTION:wedding cafè in Forio https://www.ischiaeventi.com/en/events/cu
 ltura/debates-and-cultural-meetings/event/249370-christmas-in-forio-2025-w
 edding-cafe
DTSTART:20251222T183000Z
DTEND:20251222T210000Z
LOCATION:Piazza Medaglia d'oro (San Gaetano) (Piazza Luca Balsofiore\, 8\, 
 80075 Forio NA\, Italy)
SUMMARY:Christmas in Forio 2025: wedding cafè
URL:https://www.ischiaeventi.com/en/events/cultura/debates-and-cultural-mee
 tings/event/249370-christmas-in-forio-2025-wedding-cafe
END:VEVENT
END:VCALENDAR
