BEGIN:VCALENDAR
VERSION:2.0
PRODID:-//https://www.ischiaeventi.com///NONSGML kigkonsult.se iCalcreator 2.10.15//
METHOD:PUBLISH
BEGIN:VEVENT
UID:20260424T111434UTC-5508oNnt5j@https://www.ischiaeventi.com/
DTSTAMP:20260424T111434Z
DESCRIPTION:Christmas in Forio 2025: Under the Sky of Forio\, Singers Selec
 tion\n&nbsp\; https://www.ischiaeventi.com/en/events/cultura/debates-and-c
 ultural-meetings/event/249323-christmas-in-forio-2025-under-the-sky-of-for
 io
DTSTART:20251221T100000Z
DTEND:20251221T120000Z
LOCATION:sala consiliare Mazzella  (80075 Forio NA\, Italia)
SUMMARY:Christmas in Forio 2025: Under the Sky of Forio
URL:https://www.ischiaeventi.com/en/events/cultura/debates-and-cultural-mee
 tings/event/249323-christmas-in-forio-2025-under-the-sky-of-forio
END:VEVENT
END:VCALENDAR
