BEGIN:VCALENDAR
VERSION:2.0
PRODID:-//https://www.ischiaeventi.com///NONSGML kigkonsult.se iCalcreator 2.10.15//
METHOD:PUBLISH
BEGIN:VEVENT
UID:20260424T093537UTC-89772VC937@https://www.ischiaeventi.com/
DTSTAMP:20260424T093537Z
DESCRIPTION:Inauguration of an artistic Nativity scene in Piazza Pietro Pao
 lo Iacono\, open to visitors every day from November 30 to January 6\, fro
 m 8 a.m. to 6 p.m.\, organized by the Parish of St. Mary of Mount Carmel. 
 During the Christmas season\, it will be possible to visit all the artisti
 c Nativity scenes created in the various churches of the municipality. htt
 ps://www.ischiaeventi.com/en/events/cultura/debates-and-cultural-meetings/
 event/249203-christmas-in-serrara-inauguration-of-an-artistic-nativity-sce
 ne
DTSTART:20251205T180000Z
DTEND:20251205T210000Z
LOCATION:Comune di Serrara Fontana (Via Roma\, 79\, 80070 Serrara Fontana N
 A\, Italia)
SUMMARY:Christmas in Serrara: Inauguration of an artistic Nativity scene
URL:https://www.ischiaeventi.com/en/events/cultura/debates-and-cultural-mee
 tings/event/249203-christmas-in-serrara-inauguration-of-an-artistic-nativi
 ty-scene
END:VEVENT
END:VCALENDAR
