BEGIN:VCALENDAR
VERSION:2.0
PRODID:-//https://www.ischiaeventi.com///NONSGML kigkonsult.se iCalcreator 2.10.15//
METHOD:PUBLISH
BEGIN:VEVENT
UID:20260424T135750UTC-8285C1XbvV@https://www.ischiaeventi.com/
DTSTAMP:20260424T135750Z
DESCRIPTION:3:00 PM – Piazzetta San GirolamoThe Befana arrives with a celeb
 ration for children and families\, featuring entertainment and fun.\n8:00 
 PM – Piazza Antica ReggiaThe final edition of “C’è Piazza per Te.”\n&nbsp\
 ;\n https://www.ischiaeventi.com/en/events/cultura/debates-and-cultural-me
 etings/event/249077-christmas-in-ischia-the-befana-arrives
DTSTART:20260105T140000Z
DTEND:20260105T195900Z
LOCATION:piazzetta San Girolamo Ischia  ()
SUMMARY:Christmas in Ischia: The Befana arrives
URL:https://www.ischiaeventi.com/en/events/cultura/debates-and-cultural-mee
 tings/event/249077-christmas-in-ischia-the-befana-arrives
END:VEVENT
END:VCALENDAR
