BEGIN:VCALENDAR
VERSION:2.0
PRODID:-//https://www.ischiaeventi.com///NONSGML kigkonsult.se iCalcreator 2.10.15//
METHOD:PUBLISH
BEGIN:VEVENT
UID:20260424T135744UTC-5403XKhGLh@https://www.ischiaeventi.com/
DTSTAMP:20260424T135744Z
DESCRIPTION:3:00 PM – Piazzetta San Girolamo“Shrek Christmas”: a family-fri
 endly theatrical show inspired by the famous fairy tale\, featuring entert
 ainment and inflatables.\n https://www.ischiaeventi.com/en/events/cultura/
 debates-and-cultural-meetings/event/249074-christmas-in-ischia-shrek-chris
 tmas
DTSTART:20251228T140000Z
DTEND:20251228T170000Z
LOCATION:Località Campagnano - Ischia (Via Vecchia Campagnano\, 59\, 80077 
 Ischia NA\, Italia)
SUMMARY:Christmas in Ischia: Shrek Christmas
URL:https://www.ischiaeventi.com/en/events/cultura/debates-and-cultural-mee
 tings/event/249074-christmas-in-ischia-shrek-christmas
END:VEVENT
END:VCALENDAR
